BEGIN:VCALENDAR
VERSION:2.0
PRODID:-//Ontario Soil Network - ECPv6.15.20//NONSGML v1.0//EN
CALSCALE:GREGORIAN
METHOD:PUBLISH
X-WR-CALNAME:Ontario Soil Network
X-ORIGINAL-URL:https://ontariosoil.net
X-WR-CALDESC:Events for Ontario Soil Network
REFRESH-INTERVAL;VALUE=DURATION:PT1H
X-Robots-Tag:noindex
X-PUBLISHED-TTL:PT1H
BEGIN:VTIMEZONE
TZID:America/Toronto
BEGIN:DAYLIGHT
TZOFFSETFROM:-0500
TZOFFSETTO:-0400
TZNAME:EDT
DTSTART:20200308T070000
END:DAYLIGHT
BEGIN:STANDARD
TZOFFSETFROM:-0400
TZOFFSETTO:-0500
TZNAME:EST
DTSTART:20201101T060000
END:STANDARD
BEGIN:DAYLIGHT
TZOFFSETFROM:-0500
TZOFFSETTO:-0400
TZNAME:EDT
DTSTART:20210314T070000
END:DAYLIGHT
BEGIN:STANDARD
TZOFFSETFROM:-0400
TZOFFSETTO:-0500
TZNAME:EST
DTSTART:20211107T060000
END:STANDARD
BEGIN:DAYLIGHT
TZOFFSETFROM:-0500
TZOFFSETTO:-0400
TZNAME:EDT
DTSTART:20220313T070000
END:DAYLIGHT
BEGIN:STANDARD
TZOFFSETFROM:-0400
TZOFFSETTO:-0500
TZNAME:EST
DTSTART:20221106T060000
END:STANDARD
BEGIN:DAYLIGHT
TZOFFSETFROM:-0500
TZOFFSETTO:-0400
TZNAME:EDT
DTSTART:20230312T070000
END:DAYLIGHT
BEGIN:STANDARD
TZOFFSETFROM:-0400
TZOFFSETTO:-0500
TZNAME:EST
DTSTART:20231105T060000
END:STANDARD
END:VTIMEZONE
BEGIN:VEVENT
DTSTART;TZID=America/Toronto:20220225T100000
DTEND;TZID=America/Toronto:20220225T110000
DTSTAMP:20260421T105532
CREATED:20220105T174950Z
LAST-MODIFIED:20220224T173557Z
UID:4228-1645783200-1645786800@ontariosoil.net
SUMMARY:#LetsTalkSoil with Tim Williams
DESCRIPTION:Join Tim for some good discussion on keeping it simple  when putting cover crops in clay soils. He will also touch on buffer strips and soil tests! \n\n\n\nCovid-19 protocols will be followed during this meeting https://covid-19.ontario.ca/public-health-measures \n\n\n\nLocation and Contact info will be emailed after Sign Up. \n\n\n\nSign Up
URL:https://ontariosoil.net/event/letstalksoil-with-tim-williams/
ATTACH;FMTTYPE=image/jpeg:https://ontariosoil.net/wp-content/uploads/2022/01/Tim-Williams-LTS-Cover-Crops-on-Clay.jpg
END:VEVENT
BEGIN:VEVENT
DTSTART;TZID=America/Toronto:20220223T133000
DTEND;TZID=America/Toronto:20220223T143000
DTSTAMP:20260421T105532
CREATED:20220113T192338Z
LAST-MODIFIED:20220222T170259Z
UID:4314-1645623000-1645626600@ontariosoil.net
SUMMARY:#LetsTalkSoil Online w/ Charlene & Ryan on Nitrogen Mngt  Strategies
DESCRIPTION:
URL:https://ontariosoil.net/event/letstalksoil-online-w-charlene-ryan-on-nitrogen-mngt-strategies/
ATTACH;FMTTYPE=image/jpeg:https://ontariosoil.net/wp-content/uploads/2022/01/Charlene-LTS-N-Mngt-Strategies-1.jpg
END:VEVENT
BEGIN:VEVENT
DTSTART;TZID=America/Toronto:20220218T193000
DTEND;TZID=America/Toronto:20220218T203000
DTSTAMP:20260421T105532
CREATED:20220113T191254Z
LAST-MODIFIED:20220113T191256Z
UID:4312-1645212600-1645216200@ontariosoil.net
SUMMARY:#LetsTalkSoil Online w/ Mike Doelman on Combine Residue Management
DESCRIPTION:Come and talk with Mike about combine residue management! We all know Combines can have their good and bad days and some amazing stories and pictures come out of it\, so to get everyone in the mood for combine talk bring your best story and/or picture to the meeting and we will have a prize for the:1) Most epic residue or combine fail (doesn’t need to be your own)2) Best #ResidueRemedy for solving your residue issues*If you have a picture to share you can send it over to Mike via WhatsApp or via text so that he can show it to everyone at the meeting\, his cell number will be made available in the email you will receive with the Zoom link to this meeting! \n\n\n\n \n\n\n\nSign Up
URL:https://ontariosoil.net/event/letstalksoil-online-w-mike-doelman-on-combine-residue-management/
END:VEVENT
BEGIN:VEVENT
DTSTART;TZID=America/Toronto:20220217T130000
DTEND;TZID=America/Toronto:20220217T140000
DTSTAMP:20260421T105532
CREATED:20211210T152931Z
LAST-MODIFIED:20211210T152933Z
UID:4073-1645102800-1645106400@ontariosoil.net
SUMMARY:Living Lab Ontario: Full time cover crops
DESCRIPTION:Join Living Lab – Ontario farmers Woody van Arkel and Ken Laing as they push the envelope keeping the soil covered. Woody will talk about his perennial cover crop strips while Ken discusses his no-till organic plant green vegetables. They will be joined by Xueming Yang and Anne Verhallen to add their perspectives on soil health. This free session is part of the (not free) Innovative Farmers conference and registration is at www.ifao.com.
URL:https://ontariosoil.net/event/living-lab-ontario-full-time-cover-crops/
CATEGORIES:Living Lab Ontario
ATTACH;FMTTYPE=image/jpeg:https://ontariosoil.net/wp-content/uploads/2021/11/LL-ON-Twitter-promo-1.jpg
END:VEVENT
BEGIN:VEVENT
DTSTART;TZID=America/Toronto:20220217T080000
DTEND;TZID=America/Toronto:20220218T170000
DTSTAMP:20260421T105532
CREATED:20211210T153511Z
LAST-MODIFIED:20211210T153513Z
UID:4081-1645084800-1645203600@ontariosoil.net
SUMMARY:Innovative Farmers conference
DESCRIPTION:The annual IFAO Conference is happening online again. Join us for learning and discussion!
URL:https://ontariosoil.net/event/innovative-farmers-conference/
ATTACH;FMTTYPE=image/jpeg:https://ontariosoil.net/wp-content/uploads/2021/12/ifao.jpg
END:VEVENT
BEGIN:VEVENT
DTSTART;TZID=America/Toronto:20220211T100000
DTEND;TZID=America/Toronto:20220211T120000
DTSTAMP:20260421T105532
CREATED:20211210T151808Z
LAST-MODIFIED:20211210T181246Z
UID:4067-1644573600-1644580800@ontariosoil.net
SUMMARY:Networkshop: How to manage your life!
DESCRIPTION:The last of our 5-part workshop series\, we’ll discuss goal setting and time management\, skills to apply to your farm but also to your life.  (Your life will thank you)  \n\n\n\nClosed group\, for 2022 Soil Network & Alumni
URL:https://ontariosoil.net/event/networkshop-how-to-manage-your-life/
CATEGORIES:Networkshop
ATTACH;FMTTYPE=image/jpeg:https://ontariosoil.net/wp-content/uploads/2021/12/Conference-22-tweet-1.jpg
END:VEVENT
BEGIN:VEVENT
DTSTART;TZID=America/Toronto:20220210T133000
DTEND;TZID=America/Toronto:20220210T143000
DTSTAMP:20260421T105532
CREATED:20220208T013149Z
LAST-MODIFIED:20220210T180547Z
UID:4354-1644499800-1644503400@ontariosoil.net
SUMMARY:#LetsTalkSoilOnline w/ Gerrit on Cover Crops for Forage
DESCRIPTION:
URL:https://ontariosoil.net/event/letstalksoilonline-w-gerrit-on-cover-crops-for-forage/
ATTACH;FMTTYPE=image/jpeg:https://ontariosoil.net/wp-content/uploads/2022/02/Gerrit-LTS-CC-for-Forage-e1644284446349.jpg
END:VEVENT
BEGIN:VEVENT
DTSTART;TZID=America/Toronto:20220208T130000
DTEND;TZID=America/Toronto:20220208T140000
DTSTAMP:20260421T105532
CREATED:20211210T152704Z
LAST-MODIFIED:20211210T152706Z
UID:4069-1644325200-1644328800@ontariosoil.net
SUMMARY:Living Lab Ontario: Grazing Cover Crops
DESCRIPTION:Join Mike & Lindsay Groot and federal researchers involved with the Living Lab -Ontario projects. What did they learn in 2021 and what is next for the project? This event is part of Ontario Soil & Crop Improvement Association’s annual meeting. Sign up for the rest of it at ontariosoilcrop.org
URL:https://ontariosoil.net/event/living-lab-ontario-grazing-cover-crops/
CATEGORIES:Living Lab Ontario
ATTACH;FMTTYPE=image/jpeg:https://ontariosoil.net/wp-content/uploads/2021/11/LL-ON-Twitter-promo-1.jpg
END:VEVENT
BEGIN:VEVENT
DTSTART;TZID=America/Toronto:20220204T100000
DTEND;TZID=America/Toronto:20220204T120000
DTSTAMP:20260421T105532
CREATED:20211210T151337Z
LAST-MODIFIED:20211210T181313Z
UID:4064-1643968800-1643976000@ontariosoil.net
SUMMARY:Networkshop: How to tell your story
DESCRIPTION:The fourth of our 5-part workshop series\, we’ll discuss the art of communication. Whether to the media or giving a presentation\, we’ll go through a strategy to get your point across. \n\n\n\n Closed group\, for 2022 Soil Network & Alumni
URL:https://ontariosoil.net/event/how-to-tell-your-story/
CATEGORIES:Networkshop
ATTACH;FMTTYPE=image/jpeg:https://ontariosoil.net/wp-content/uploads/2021/12/Conference-22-tweet-1.jpg
END:VEVENT
BEGIN:VEVENT
DTSTART;TZID=America/Toronto:20220131T130000
DTEND;TZID=America/Toronto:20220131T140000
DTSTAMP:20260421T105532
CREATED:20220109T193722Z
LAST-MODIFIED:20220118T144423Z
UID:4278-1643634000-1643637600@ontariosoil.net
SUMMARY:#LetsTalkSoils w/ Reuben Stone: Peaola
DESCRIPTION:
URL:https://ontariosoil.net/event/letstalksoils-w-reuben-stone-peaola/
ATTACH;FMTTYPE=image/jpeg:https://ontariosoil.net/wp-content/uploads/2022/01/LTS-Reuben-Stone-Jan-31.jpg
END:VEVENT
BEGIN:VEVENT
DTSTART;TZID=America/Toronto:20220128T100000
DTEND;TZID=America/Toronto:20220128T120000
DTSTAMP:20260421T105532
CREATED:20211210T151013Z
LAST-MODIFIED:20211210T181335Z
UID:4062-1643364000-1643371200@ontariosoil.net
SUMMARY:Networkshop: How to handle the haters
DESCRIPTION:The third of our 5-part workshop series\, we’ll discuss how to manage the various ‘personalities’ and critics of your farm … and in your life! \n\n\n\nClosed group\, for 2022 Soil Network & Alumni
URL:https://ontariosoil.net/event/how-to-handle-the-haters/
CATEGORIES:Networkshop
ATTACH;FMTTYPE=image/jpeg:https://ontariosoil.net/wp-content/uploads/2021/12/Conference-22-tweet-1.jpg
END:VEVENT
BEGIN:VEVENT
DTSTART;TZID=America/Toronto:20220127T190000
DTEND;TZID=America/Toronto:20220127T200000
DTSTAMP:20260421T105532
CREATED:20220113T182718Z
LAST-MODIFIED:20220127T163429Z
UID:4304-1643310000-1643313600@ontariosoil.net
SUMMARY:#LetsTalkSoilOnline w/ Chris & Lyndsey on Grazing!
DESCRIPTION:Sign Up
URL:https://ontariosoil.net/event/letstalksoilonline-w-chris-lyndsey-on-grazing/
ATTACH;FMTTYPE=image/jpeg:https://ontariosoil.net/wp-content/uploads/2022/01/CL-LTS-Grazing-1.jpg
END:VEVENT
BEGIN:VEVENT
DTSTART;TZID=America/Toronto:20220127T150000
DTEND;TZID=America/Toronto:20220127T160000
DTSTAMP:20260421T105532
CREATED:20220113T184857Z
LAST-MODIFIED:20220113T184859Z
UID:4309-1643295600-1643299200@ontariosoil.net
SUMMARY:#LetsTalkSoilOnline w/ Kelsey Banks on Winter Canola
DESCRIPTION:Sign Up
URL:https://ontariosoil.net/event/letstalksoilonline-w-kelsey-banks-on-winter-canola/
ATTACH;FMTTYPE=image/jpeg:https://ontariosoil.net/wp-content/uploads/2022/01/Kelsey-LTS-Winter-Canola.jpg
END:VEVENT
BEGIN:VEVENT
DTSTART;TZID=America/Toronto:20220121T150000
DTEND;TZID=America/Toronto:20220121T160000
DTSTAMP:20260421T105532
CREATED:20220105T234537Z
LAST-MODIFIED:20220109T194442Z
UID:4249-1642777200-1642780800@ontariosoil.net
SUMMARY:Let's Talk 60" Corn!
DESCRIPTION:Join Jim\, Larry and Patrick to discuss their experience growing 60″ corn\, and to find out what worked and what didn’t. Industry experts will also be there to share what they have seen in farmers fields and lend their knowledge to talk of what a grower can do to have a (more) successful crop!
URL:https://ontariosoil.net/event/intercropping-60-row-corn-varietal-traits-and-cover-crops/
ATTACH;FMTTYPE=image/jpeg:https://ontariosoil.net/wp-content/uploads/2022/01/60-inch-corn-ad-Mel.jpg
END:VEVENT
BEGIN:VEVENT
DTSTART;TZID=America/Toronto:20220121T100000
DTEND;TZID=America/Toronto:20220121T120000
DTSTAMP:20260421T105532
CREATED:20211210T150458Z
LAST-MODIFIED:20211210T150500Z
UID:4058-1642759200-1642766400@ontariosoil.net
SUMMARY:Networkshop: How to do on-farm research
DESCRIPTION:The second of our 5-part workshop series\, we’ll discuss how to set up and run on-farm research\, with Sarah Larsen (EFAO)\, Andy van Niekerk (IFAO) and Ian Scott (AAFC). This is run as part of the Living Lab-Ontario project and can be accessed by all\, sign up here.
URL:https://ontariosoil.net/event/how-to-do-on-farm-research/
CATEGORIES:Networkshop
ATTACH;FMTTYPE=image/jpeg:https://ontariosoil.net/wp-content/uploads/2021/12/Conference-22-tweet-1.jpg
END:VEVENT
BEGIN:VEVENT
DTSTART;TZID=America/Toronto:20220114T130000
DTEND;TZID=America/Toronto:20220114T140000
DTSTAMP:20260421T105532
CREATED:20220109T193657Z
LAST-MODIFIED:20220113T183214Z
UID:4273-1642165200-1642168800@ontariosoil.net
SUMMARY:#LetsTalkSoil Online with Peter Harvey: NoTill Corn Crazy Strips in 2700 CHU
DESCRIPTION:Sign Up
URL:https://ontariosoil.net/event/letstalksoil-online-with-peter-harvey-notill-corn-crazy-strips-in-2700-chu/
ATTACH;FMTTYPE=image/jpeg:https://ontariosoil.net/wp-content/uploads/2022/01/LTS-Peter-Harvey-Jan-14.jpg
END:VEVENT
BEGIN:VEVENT
DTSTART;TZID=America/Toronto:20220114T100000
DTEND;TZID=America/Toronto:20220114T120000
DTSTAMP:20260421T105532
CREATED:20211210T145759Z
LAST-MODIFIED:20211210T181423Z
UID:4051-1642154400-1642161600@ontariosoil.net
SUMMARY:Networkshop: How to keep learning
DESCRIPTION:The first of our 5-part workshop series\, we’ll discuss where are good ideas come from and how we can set ourselves up to learn better\, faster\, and together!  \n\n\n\n Closed group\, for 2022 Soil Network & Alumni
URL:https://ontariosoil.net/event/how-to-keep-learning/
CATEGORIES:Networkshop
ATTACH;FMTTYPE=image/jpeg:https://ontariosoil.net/wp-content/uploads/2021/12/Conference-22-tweet-1.jpg
ORGANIZER;CN="Ontario Soil Network":MAILTO:admin@ontariosoil.net
END:VEVENT
BEGIN:VEVENT
DTSTART;TZID=America/Toronto:20220105T080000
DTEND;TZID=America/Toronto:20220111T170000
DTSTAMP:20260421T105532
CREATED:20211210T155733Z
LAST-MODIFIED:20211210T155735Z
UID:4092-1641369600-1641920400@ontariosoil.net
SUMMARY:Grey-Bruce Farmers Week online
DESCRIPTION:Now everyone gets to experience Grey-Bruce Farmers week!  Join the Soil Network panel on January 11 for Crops Day 🙂
URL:https://ontariosoil.net/event/grey-bruce-farmers-week-online/
ATTACH;FMTTYPE=image/jpeg:https://ontariosoil.net/wp-content/uploads/2021/12/Grey-Bruce-Farmers-Week-col-logo.jpg
END:VEVENT
BEGIN:VEVENT
DTSTART;TZID=America/Toronto:20220105T080000
DTEND;TZID=America/Toronto:20220106T170000
DTSTAMP:20260421T105532
CREATED:20211210T160040Z
LAST-MODIFIED:20211210T160042Z
UID:4097-1641369600-1641488400@ontariosoil.net
SUMMARY:Ontario Agriculture Conference
DESCRIPTION:Back again online!
URL:https://ontariosoil.net/event/ontario-agriculture-conference/
ATTACH;FMTTYPE=image/png:https://ontariosoil.net/wp-content/uploads/2021/12/Ontario-Ag-Conference.png
END:VEVENT
BEGIN:VEVENT
DTSTART;TZID=America/Toronto:20220104T130000
DTEND;TZID=America/Toronto:20220104T143000
DTSTAMP:20260421T105532
CREATED:20211210T154339Z
LAST-MODIFIED:20211210T154341Z
UID:4088-1641301200-1641306600@ontariosoil.net
SUMMARY:Living Lab Ontario: Grazing cover crops chat
DESCRIPTION:If you’ve got experience doing rotational grazing on cover crops\, we’d love to have you join our chat. Contact Mel to register: 519-820-2358.
URL:https://ontariosoil.net/event/living-lab-ontario-grazing-cover-crops-chat/
CATEGORIES:Living Lab Ontario
ATTACH;FMTTYPE=image/jpeg:https://ontariosoil.net/wp-content/uploads/2021/12/ifao.jpg
END:VEVENT
BEGIN:VEVENT
DTSTART;TZID=America/Toronto:20211222T193000
DTEND;TZID=America/Toronto:20211222T210000
DTSTAMP:20260421T105532
CREATED:20211210T144608Z
LAST-MODIFIED:20211221T153532Z
UID:4044-1640201400-1640206800@ontariosoil.net
SUMMARY:Christmas Party(s)!
DESCRIPTION:1 night – 6 shop parties (and online option) hosted by our members across Ontario!   \n\n\n\nKinburn-Cobourg-Barrie-Teeswater-Caledonia-Strathroy-Zoom \n\n\n\nRegistration is now closed\, but email admin@ontariosoil.net if you’d like the zoom link.
URL:https://ontariosoil.net/event/christmas-partys/
LOCATION:Multiple
ATTACH;FMTTYPE=image/jpeg:https://ontariosoil.net/wp-content/uploads/2021/12/Dec-22-Christmas-Party.jpg
END:VEVENT
BEGIN:VEVENT
DTSTART;TZID=America/Toronto:20211215T103000
DTEND;TZID=America/Toronto:20211215T120000
DTSTAMP:20260421T105532
CREATED:20211210T154116Z
LAST-MODIFIED:20211210T154119Z
UID:4086-1639564200-1639569600@ontariosoil.net
SUMMARY:Living Lab Ontario: Perennial cover crop chat
DESCRIPTION:If you’ve got experience keeping your cover crops alive all year round (yes\, alive!) we’d love to have you join our chat with Woody Van Arkel. Call Mel to register: 519-820-2358
URL:https://ontariosoil.net/event/living-lab-ontario-perennial-cover-crop-chat/
CATEGORIES:Living Lab Ontario
ATTACH;FMTTYPE=image/jpeg:https://ontariosoil.net/wp-content/uploads/2021/12/ifao.jpg
END:VEVENT
BEGIN:VEVENT
DTSTART;TZID=America/Toronto:20211214T193000
DTEND;TZID=America/Toronto:20211214T210000
DTSTAMP:20260421T105532
CREATED:20211210T153920Z
LAST-MODIFIED:20211210T153922Z
UID:4084-1639510200-1639515600@ontariosoil.net
SUMMARY:Living Lab Ontario: Relay cropping chat
DESCRIPTION:If you’ve done got experience with relay or double cropping\, we’d love to have you join our chat. Closed group\, but contact Mel to join: 519-820-2358.
URL:https://ontariosoil.net/event/living-lab-ontario-relay-cropping-chat/
CATEGORIES:Living Lab Ontario
ATTACH;FMTTYPE=image/jpeg:https://ontariosoil.net/wp-content/uploads/2021/12/ifao.jpg
END:VEVENT
END:VCALENDAR